BEGIN:VCALENDAR
VERSION:2.0
PRODID:-//Tampere.kulttuuritoimitus.fi - ECPv6.15.11//NONSGML v1.0//EN
CALSCALE:GREGORIAN
METHOD:PUBLISH
X-ORIGINAL-URL:https://tampere.kulttuuritoimitus.fi
X-WR-CALDESC:Tapahtumat Tampere.kulttuuritoimitus.fi
REFRESH-INTERVAL;VALUE=DURATION:PT1H
X-Robots-Tag:noindex
X-PUBLISHED-TTL:PT1H
BEGIN:VTIMEZONE
TZID:Europe/Helsinki
BEGIN:DAYLIGHT
TZOFFSETFROM:+0200
TZOFFSETTO:+0300
TZNAME:EEST
DTSTART:20230326T010000
END:DAYLIGHT
BEGIN:STANDARD
TZOFFSETFROM:+0300
TZOFFSETTO:+0200
TZNAME:EET
DTSTART:20231029T010000
END:STANDARD
BEGIN:DAYLIGHT
TZOFFSETFROM:+0200
TZOFFSETTO:+0300
TZNAME:EEST
DTSTART:20240331T010000
END:DAYLIGHT
BEGIN:STANDARD
TZOFFSETFROM:+0300
TZOFFSETTO:+0200
TZNAME:EET
DTSTART:20241027T010000
END:STANDARD
BEGIN:DAYLIGHT
TZOFFSETFROM:+0200
TZOFFSETTO:+0300
TZNAME:EEST
DTSTART:20250330T010000
END:DAYLIGHT
BEGIN:STANDARD
TZOFFSETFROM:+0300
TZOFFSETTO:+0200
TZNAME:EET
DTSTART:20251026T010000
END:STANDARD
END:VTIMEZONE
BEGIN:VEVENT
DTSTART;TZID=Europe/Helsinki:20240515T180000
DTEND;TZID=Europe/Helsinki:20240818T180000
DTSTAMP:20260421T015440
CREATED:20240515T132707Z
LAST-MODIFIED:20240520T143739Z
UID:2203-1715796000-1724004000@tampere.kulttuuritoimitus.fi
SUMMARY:Tampereen Komediateatteri: Peppi Pitkätossu
DESCRIPTION:Koko perheen musiikkinäytelmä perustuu Astrid Lindgrenin rakastettuun anarkistihahmoon. Ohjaaja Iiris Rannio. Nimiroolissa Annika Junno. \nTarkistathan tarkat esitysajat esityksen kotisivuilta!
URL:https://tampere.kulttuuritoimitus.fi/tapahtuma/tampereen-komediateatteri-peppi-pitkatossu/
ATTACH;FMTTYPE=image/jpeg:https://tampere.kulttuuritoimitus.fi/wp-content/uploads/sunflower-1127174_1280.jpg
END:VEVENT
BEGIN:VEVENT
DTSTART;TZID=Europe/Helsinki:20240515T190000
DTEND;TZID=Europe/Helsinki:20240811T160000
DTSTAMP:20260421T015440
CREATED:20240515T125430Z
LAST-MODIFIED:20240520T143853Z
UID:2201-1715799600-1723392000@tampere.kulttuuritoimitus.fi
SUMMARY:Teatteri Lysti: Jäniksen vuosi
DESCRIPTION:Risto Jarvan klassikko nähdään Tampereella Haiharan taidekeskuksessa. \nTarkistathan tarkat esitysajat kotisivulta!
URL:https://tampere.kulttuuritoimitus.fi/tapahtuma/teatteri-lysti-janiksen-vuosi/
ATTACH;FMTTYPE=image/jpeg:https://tampere.kulttuuritoimitus.fi/wp-content/uploads/sunflowers-7353922_1280.jpg
END:VEVENT
BEGIN:VEVENT
DTSTART;TZID=Europe/Helsinki:20240607T180000
DTEND;TZID=Europe/Helsinki:20240817T180000
DTSTAMP:20260421T015440
CREATED:20240520T144352Z
LAST-MODIFIED:20240520T144352Z
UID:2368-1717783200-1723917600@tampere.kulttuuritoimitus.fi
SUMMARY:Tampereen Komediateatteri: Dingo-musikaali
DESCRIPTION:Kaisa Kuikkaniemen ja Otto Kanervan käsikirjoittama ja jälkimmäisen ohjaama musikaali 1980-luvun suomirockilmiöstä. Neumannin roolissa Joel Mäkinen ja Saska Pulkkinen. \nTarkistathan tarkat esitysajat tapahtuman kotisivulta!
URL:https://tampere.kulttuuritoimitus.fi/tapahtuma/tampereen-komediateatteri-dingo-musikaali/
END:VEVENT
BEGIN:VEVENT
DTSTART;TZID=Europe/Helsinki:20240608T200000
DTEND;TZID=Europe/Helsinki:20240714T200000
DTSTAMP:20260421T015440
CREATED:20240522T182933Z
LAST-MODIFIED:20240522T182933Z
UID:3122-1717876800-1720987200@tampere.kulttuuritoimitus.fi
SUMMARY:Fest Africa
DESCRIPTION:Yli 20 vuotta sitten Tampereella perustettu festivaali tuo esiin afrikkalaista esittävää taidetta.
URL:https://tampere.kulttuuritoimitus.fi/tapahtuma/fest-africa/
ATTACH;FMTTYPE=image/jpeg:https://tampere.kulttuuritoimitus.fi/wp-content/uploads/sunflower-3614728_1280.jpg
END:VEVENT
BEGIN:VEVENT
DTSTART;TZID=Europe/Helsinki:20240611T180000
DTEND;TZID=Europe/Helsinki:20240810T180000
DTSTAMP:20260421T015440
CREATED:20240520T144843Z
LAST-MODIFIED:20240520T144843Z
UID:2372-1718128800-1723312800@tampere.kulttuuritoimitus.fi
SUMMARY:Pyynikin kesäteatteri: Karavaanari – Kaikkien kaveri
DESCRIPTION:Riku Suokkaan ja Heikki Syrjän kesäkomedian pääosassa Lari Halme. Tarkistathan tarkat esitysajat esityksen kotisivulta!
URL:https://tampere.kulttuuritoimitus.fi/tapahtuma/pyynikin-kesateatteri-karavaanari-kaikkien-kaveri/
END:VEVENT
BEGIN:VEVENT
DTSTART;TZID=Europe/Helsinki:20240612T080000
DTEND;TZID=Europe/Helsinki:20240714T170000
DTSTAMP:20260421T015440
CREATED:20240522T183434Z
LAST-MODIFIED:20240522T184720Z
UID:3148-1718179200-1720976400@tampere.kulttuuritoimitus.fi
SUMMARY:Musta Pispala
DESCRIPTION:Anarkistinen vastakulttuurifestivaali. Tarkka ohjelma julkaistaan myöhemmin. Mukana myös maksutonta ja ikärajatonta ohjelmaa.
URL:https://tampere.kulttuuritoimitus.fi/tapahtuma/musta-pispala/
ATTACH;FMTTYPE=image/jpeg:https://tampere.kulttuuritoimitus.fi/wp-content/uploads/sunflowers-8175241_1280.jpg
END:VEVENT
BEGIN:VEVENT
DTSTART;TZID=Europe/Helsinki:20240612T180000
DTEND;TZID=Europe/Helsinki:20240825T160000
DTSTAMP:20260421T015440
CREATED:20240520T145054Z
LAST-MODIFIED:20240520T145054Z
UID:2374-1718215200-1724601600@tampere.kulttuuritoimitus.fi
SUMMARY:La Strada/Teerenpeli: Ihme kaupunki – totta ja tarua Tampereesta:
DESCRIPTION:Juhlarevyy kehitysvammaisten ihmisten teatterin La Stradan viidennentoista juhlavuoden kunniaksi viihdyttää Teerenpelissä. Tarkistathan tarkat esitysajat esityksen kotisivulta!
URL:https://tampere.kulttuuritoimitus.fi/tapahtuma/la-strada-teerenpeli-ihme-kaupunki-totta-ja-tarua-tampereesta/
END:VEVENT
BEGIN:VEVENT
DTSTART;TZID=Europe/Helsinki:20240614T110000
DTEND;TZID=Europe/Helsinki:20240825T180000
DTSTAMP:20260421T015440
CREATED:20240522T192006Z
LAST-MODIFIED:20240522T192006Z
UID:3265-1718362800-1724608800@tampere.kulttuuritoimitus.fi
SUMMARY:Finlayson Art Area 2024
DESCRIPTION:Ympäri Finlaysonin aluetta levittäytyvä taidetapahtuma. Maksuton ja koiraystävällinen.
URL:https://tampere.kulttuuritoimitus.fi/tapahtuma/finlayson-art-area-2024/
ATTACH;FMTTYPE=image/jpeg:https://tampere.kulttuuritoimitus.fi/wp-content/uploads/sunflower-4415802_1280.jpg
END:VEVENT
BEGIN:VEVENT
DTSTART;TZID=Europe/Helsinki:20240625T120000
DTEND;TZID=Europe/Helsinki:20240729T190000
DTSTAMP:20260421T015440
CREATED:20240522T180643Z
LAST-MODIFIED:20240522T180643Z
UID:3077-1719316800-1722279600@tampere.kulttuuritoimitus.fi
SUMMARY:Tampereen flamencoviikko
DESCRIPTION:Flamencoviikolla mm. kursseja\, konsertteja ja tapahtumia. Osaan tapahtumista ja esityksistä on vapaa pääsy.
URL:https://tampere.kulttuuritoimitus.fi/tapahtuma/tampereen-flamencoviikko/
ATTACH;FMTTYPE=image/jpeg:https://tampere.kulttuuritoimitus.fi/wp-content/uploads/sunflowers-7353922_1280.jpg
END:VEVENT
BEGIN:VEVENT
DTSTART;TZID=Europe/Helsinki:20240701T190000
DTEND;TZID=Europe/Helsinki:20240718T180000
DTSTAMP:20260421T015440
CREATED:20240522T181445Z
LAST-MODIFIED:20240522T181445Z
UID:3099-1719860400-1721325600@tampere.kulttuuritoimitus.fi
SUMMARY:Pyynikki-ilmiön esitykset
DESCRIPTION:Pyynikin kesäteatterilla esitetään stand upia ja konsertoivat mm. Anna Puu ja Sir Elwoodin Hiljaiset Värit. Tarkista tapahtumien tarkat ajat kesäteatterin sivuilta.
URL:https://tampere.kulttuuritoimitus.fi/tapahtuma/pyynikki-ilmion-esitykset/
ATTACH;FMTTYPE=image/jpeg:https://tampere.kulttuuritoimitus.fi/wp-content/uploads/sunflower-290496_1280.jpg
END:VEVENT
BEGIN:VEVENT
DTSTART;TZID=Europe/Helsinki:20240703T180000
DTEND;TZID=Europe/Helsinki:20240809T180000
DTSTAMP:20260421T015440
CREATED:20240520T145259Z
LAST-MODIFIED:20240520T145259Z
UID:2376-1720029600-1723226400@tampere.kulttuuritoimitus.fi
SUMMARY:Viikinsaaren kesäteatteri: Ilosia aikoja\, Mielensäpahoittaja
DESCRIPTION:Tuomas Kyrön alkuperäisteokseen perustuvan komedian on dramatisoinut ja ohjannut Janne Jämsä. Nimiroolissa Ola Tuominen. Tarkistathan tarkat esitysajat esityksen kotisivulta!
URL:https://tampere.kulttuuritoimitus.fi/tapahtuma/viikinsaaren-kesateatteri-ilosia-aikoja-mielensapahoittaja/
ATTACH;FMTTYPE=image/jpeg:https://tampere.kulttuuritoimitus.fi/wp-content/uploads/sunflower-290496_1280.jpg
END:VEVENT
BEGIN:VEVENT
DTSTART;TZID=Europe/Helsinki:20240706T110000
DTEND;TZID=Europe/Helsinki:20240818T180000
DTSTAMP:20260421T015440
CREATED:20240522T192708Z
LAST-MODIFIED:20240531T090929Z
UID:3278-1720263600-1724004000@tampere.kulttuuritoimitus.fi
SUMMARY:J.R.R. Tolkienin maailma: John Howen taidetta
DESCRIPTION:Fantasiataiteen pioneerin ensimmäinen taidenäyttely Suomessa tapahtuu Tampere-talossa.
URL:https://tampere.kulttuuritoimitus.fi/tapahtuma/j-r-r-tolkienin-maailma-john-howen-taidetta/
ATTACH;FMTTYPE=image/jpeg:https://tampere.kulttuuritoimitus.fi/wp-content/uploads/sunflower-1521864_1280.jpg
END:VEVENT
BEGIN:VEVENT
DTSTART;TZID=Europe/Helsinki:20240708T190000
DTEND;TZID=Europe/Helsinki:20240708T210000
DTSTAMP:20260421T015440
CREATED:20240514T102706Z
LAST-MODIFIED:20240522T181557Z
UID:2162-1720465200-1720472400@tampere.kulttuuritoimitus.fi
SUMMARY:Pyynikki-ilmiö: Ismo Leikolan uusien juttujen ilta
DESCRIPTION:Ismo Leikola kertoo Pyynikin kesäteatterilla uusimmat nauruhermoja kutkuttavat tarinansa.
URL:https://tampere.kulttuuritoimitus.fi/tapahtuma/pyynikki-ilmio-ismo-leikola/
ATTACH;FMTTYPE=image/jpeg:https://tampere.kulttuuritoimitus.fi/wp-content/uploads/sunflower-6515860_1280.jpg
END:VEVENT
BEGIN:VEVENT
DTSTART;TZID=Europe/Helsinki:20240714T140000
DTEND;TZID=Europe/Helsinki:20240730T140000
DTSTAMP:20260421T015440
CREATED:20240520T145617Z
LAST-MODIFIED:20240520T145617Z
UID:2378-1720965600-1722348000@tampere.kulttuuritoimitus.fi
SUMMARY:Viikinsaaren kesäteatteri: Tatu ja Patu pihalla
DESCRIPTION:Aino Havukaisen ja Sami Toivosen suosikkihahmot jatkavat Viikinsaaressa toisenkin kesän. Rooleissa Lassi Jämsä ja Roope Myllyselkä. Tarkistathan tarkat esitysajat tapahtuman kotisivulta!
URL:https://tampere.kulttuuritoimitus.fi/tapahtuma/viikinsaaren-kesateatteri-tatu-ja-patu-pihalla/
ATTACH;FMTTYPE=image/jpeg:https://tampere.kulttuuritoimitus.fi/wp-content/uploads/sunflower-1127174_1280.jpg
END:VEVENT
BEGIN:VEVENT
DTSTART;TZID=Europe/Helsinki:20240717T183000
DTEND;TZID=Europe/Helsinki:20240908T183000
DTSTAMP:20260421T015440
CREATED:20240520T145859Z
LAST-MODIFIED:20240520T145859Z
UID:2380-1721241000-1725820200@tampere.kulttuuritoimitus.fi
SUMMARY:Tukkateatteri: Savu-uhri
DESCRIPTION:Maria Jotunin parisuhdekomedia nähdään Amurin museokorttelissa. Ohjaus Katri Häti. Tarkistathan tarkat esitysajat esityksen kotisivulta!
URL:https://tampere.kulttuuritoimitus.fi/tapahtuma/tukkateatteri-savu-uhri/
ATTACH;FMTTYPE=image/jpeg:https://tampere.kulttuuritoimitus.fi/wp-content/uploads/sunflowers-7353922_1280.jpg
END:VEVENT
BEGIN:VEVENT
DTSTART;TZID=Europe/Helsinki:20240802T080000
DTEND;TZID=Europe/Helsinki:20240804T170000
DTSTAMP:20260421T015440
CREATED:20240522T184437Z
LAST-MODIFIED:20240522T184437Z
UID:3167-1722585600-1722790800@tampere.kulttuuritoimitus.fi
SUMMARY:Wanhankaupungin juhla
DESCRIPTION:Musiikkifestivaali Tampereen keskustan ikonisissa vanhoissa rakennuksissa.
URL:https://tampere.kulttuuritoimitus.fi/tapahtuma/wanhankaupungin-juhla/
ATTACH;FMTTYPE=image/jpeg:https://tampere.kulttuuritoimitus.fi/wp-content/uploads/sunflower-1521864_1280.jpg
END:VEVENT
BEGIN:VEVENT
DTSTART;TZID=Europe/Helsinki:20240802T110000
DTEND;TZID=Europe/Helsinki:20240803T233000
DTSTAMP:20260421T015440
CREATED:20240522T184139Z
LAST-MODIFIED:20240522T184542Z
UID:3159-1722596400-1722727800@tampere.kulttuuritoimitus.fi
SUMMARY:SaariHelvetti
DESCRIPTION:10 vuotta täyttävä hevifestivaali Viikinsaaressa. Lavalla mm. Turmion Kätilöt\, Kiuas ja Deathchain.
URL:https://tampere.kulttuuritoimitus.fi/tapahtuma/saarihelvetti/
ATTACH;FMTTYPE=image/jpeg:https://tampere.kulttuuritoimitus.fi/wp-content/uploads/sunflowers-8175241_1280.jpg
END:VEVENT
BEGIN:VEVENT
DTSTART;TZID=Europe/Helsinki:20240805T080000
DTEND;TZID=Europe/Helsinki:20240811T170000
DTSTAMP:20260421T015440
CREATED:20240520T150115Z
LAST-MODIFIED:20240520T150115Z
UID:2386-1722844800-1723395600@tampere.kulttuuritoimitus.fi
SUMMARY:Tampereen teatterikesä
DESCRIPTION:Pohjoismaiden suurimman teatteritapahtuman pääohjelmistossa on tänä vuonna yhteensä 19 produktiota\, joista viisi on kansainvälisiä. Ohjelmisto ja esitysajat kotisivulla.
URL:https://tampere.kulttuuritoimitus.fi/tapahtuma/tampereen-teatterikesa/
ATTACH;FMTTYPE=image/jpeg:https://tampere.kulttuuritoimitus.fi/wp-content/uploads/sunflower-1127174_1280.jpg
END:VEVENT
BEGIN:VEVENT
DTSTART;TZID=Europe/Helsinki:20240808T080000
DTEND;TZID=Europe/Helsinki:20240808T170000
DTSTAMP:20260421T015440
CREATED:20240514T112746Z
LAST-MODIFIED:20240514T112746Z
UID:2166-1723104000-1723136400@tampere.kulttuuritoimitus.fi
SUMMARY:Tapahtumien yö
DESCRIPTION:Ohjelma julkistetaan heinäkuun aikana.
URL:https://tampere.kulttuuritoimitus.fi/tapahtuma/tapahtumien-yo/
ATTACH;FMTTYPE=image/jpeg:https://tampere.kulttuuritoimitus.fi/wp-content/uploads/sunflower-1127174_1280.jpg
END:VEVENT
BEGIN:VEVENT
DTSTART;TZID=Europe/Helsinki:20240810T143000
DTEND;TZID=Europe/Helsinki:20240810T210000
DTSTAMP:20260421T015440
CREATED:20240522T190453Z
LAST-MODIFIED:20240522T190453Z
UID:3178-1723300200-1723323600@tampere.kulttuuritoimitus.fi
SUMMARY:SaariBlues
DESCRIPTION:Blues-\, roots- ja rockmusiikkia Viikinsaaressa. Mukana mm. Pepe Willberg & Band.
URL:https://tampere.kulttuuritoimitus.fi/tapahtuma/saariblues/
ATTACH;FMTTYPE=image/jpeg:https://tampere.kulttuuritoimitus.fi/wp-content/uploads/sunflower-6515860_1280.jpg
END:VEVENT
BEGIN:VEVENT
DTSTART;TZID=Europe/Helsinki:20240816T080000
DTEND;TZID=Europe/Helsinki:20240817T170000
DTSTAMP:20260421T015440
CREATED:20240522T190949Z
LAST-MODIFIED:20240522T190949Z
UID:3235-1723795200-1723914000@tampere.kulttuuritoimitus.fi
SUMMARY:Blockfest
DESCRIPTION:Räppifestareilla mukana mm. Korelon\, Tippa\, Skepta ja Soulja Boy.
URL:https://tampere.kulttuuritoimitus.fi/tapahtuma/blockfest/
ATTACH;FMTTYPE=image/jpeg:https://tampere.kulttuuritoimitus.fi/wp-content/uploads/sunflower-290496_1280.jpg
END:VEVENT
BEGIN:VEVENT
DTSTART;TZID=Europe/Helsinki:20240817T110000
DTEND;TZID=Europe/Helsinki:20240818T160000
DTSTAMP:20260421T015440
CREATED:20240522T191154Z
LAST-MODIFIED:20240522T191154Z
UID:3255-1723892400-1723996800@tampere.kulttuuritoimitus.fi
SUMMARY:Elomarkkinat
DESCRIPTION:Tallipihan elomarkkinoiden teemana ovat kierrätys\, laadukas wanha tavara ja uusiotuotteet. Tapahtumaan on vapaa pääsy.
URL:https://tampere.kulttuuritoimitus.fi/tapahtuma/elomarkkinat/
ATTACH;FMTTYPE=image/jpeg:https://tampere.kulttuuritoimitus.fi/wp-content/uploads/sunflower-1127174_1280.jpg
END:VEVENT
BEGIN:VEVENT
DTSTART;TZID=Europe/Helsinki:20240823T080000
DTEND;TZID=Europe/Helsinki:20240824T170000
DTSTAMP:20260421T015440
CREATED:20240522T182123Z
LAST-MODIFIED:20240522T182123Z
UID:3114-1724400000-1724518800@tampere.kulttuuritoimitus.fi
SUMMARY:Festivaali-festivaali
DESCRIPTION:Kolmatta kertaa Pyynikillä järjestettävillä festareilla esiintyvät mm. Jesse Markin\, Vilma Jää ja Alma.
URL:https://tampere.kulttuuritoimitus.fi/tapahtuma/festivaali-festivaali/
ATTACH;FMTTYPE=image/jpeg:https://tampere.kulttuuritoimitus.fi/wp-content/uploads/sunflower-4866445_1280.jpg
END:VEVENT
BEGIN:VEVENT
DTSTART;TZID=Europe/Helsinki:20240824T140000
DTEND;TZID=Europe/Helsinki:20240824T230000
DTSTAMP:20260421T015440
CREATED:20240522T191441Z
LAST-MODIFIED:20240522T191441Z
UID:3257-1724508000-1724540400@tampere.kulttuuritoimitus.fi
SUMMARY:Glow Festival
DESCRIPTION:Gospelmusiikkifestivaali Nokia Arenalla.
URL:https://tampere.kulttuuritoimitus.fi/tapahtuma/glow-festival/
ATTACH;FMTTYPE=image/jpeg:https://tampere.kulttuuritoimitus.fi/wp-content/uploads/sunflower-1127174_1280.jpg
END:VEVENT
END:VCALENDAR